BEGIN:VCALENDAR
VERSION:2.0
PRODID:-//eventon.com NONSGML v1.0//EN
CALSCALE:GREGORIAN
METHOD:PUBLISH
BEGIN:VEVENT
UID:69e9fbc0336e9
DTSTAMP:20260423T110016
DTSTART:20230121T130000Z
DTEND:20230122T220000Z
TZID:America/New_York
LOCATION:The College of William &amp; Mary 400 Brooks St
SUMMARY:NOLS Wilderness First Aid (2719)
DESCRIPTION: Course Overview: Expectations\,  Gear List\,  Schedule\,  etc. Tuition: $TBD W&amp;M Student discount will be applied upon enrollment. **Registration opens after October 31**  Register Now How to Register (If you are not a W&amp;M Student/Fac/Staff): Follow the link: “Register Now” or go to: campusrec.wm.edu Select “Sign Up” located in the upper[..]\nhttps://www.landmarklearning.org/events/nols-wilderness-first-aid-2719/
URL:https://www.landmarklearning.org/events/nols-wilderness-first-aid-2719/
END:VEVENT
END:VCALENDAR