BEGIN:VCALENDAR
VERSION:2.0
PRODID:-//eventon.com NONSGML v1.0//EN
CALSCALE:GREGORIAN
METHOD:PUBLISH
BEGIN:VEVENT
UID:69eb059095eaa
DTSTAMP:20260424T055424
DTSTART:20250531T120000Z
DTEND:20250601T220000Z
TZID:America/New_York
LOCATION:Landmark Learning - Downstream Campus 1333 Cane Creek Rd
SUMMARY:ACA Level 4:Swiftwater Rescue (3066)
DESCRIPTION: Register Now Location: Landmark&#8217;s Downstream Campus Course Overview: Expectations\,  Gear List\,  Schedule\,  etc. Tuition: $300 Meals: Not included &#8211; town is 10 minutes from our base\,  with ample restaurants and grocery store options. Available for student use is a standard refrigerator\,  microwave\,  coffee maker and hot water urn. Most students[..]\nhttps://www.landmarklearning.org/events/aca-level-4swiftwater-rescue-3066/
URL:https://www.landmarklearning.org/events/aca-level-4swiftwater-rescue-3066/
END:VEVENT
END:VCALENDAR