BEGIN:VCALENDAR
VERSION:2.0
PRODID:-//eventon.com NONSGML v1.0//EN
CALSCALE:GREGORIAN
METHOD:PUBLISH
BEGIN:VEVENT
UID:69e600eea4a3a
DTSTAMP:20260420T103318
DTSTART:20250815T120000Z
DTEND:20250817T210000Z
TZID:America/New_York
LOCATION:Landmark Learning - Upstream Campus 1333 Cane Creek Rd
SUMMARY:NOLS WFR Recertification (3091)
DESCRIPTION: Register Now Course Overview (Expectations\,  Gear List\,  Schedule\,  etc) Prepare for your course here! Location: Landmark Learning&#8217;s Upstream Campus Tuition: $399 Meals: Not included. Town is 10 minutes from our base\,  with ample restaurants and grocery store options. Available for student use are two standard refrigerators\,  two microwaves\,  coffee pots[..]\nhttps://www.landmarklearning.org/events/nols-wfr-recertification-3091/
URL:https://www.landmarklearning.org/events/nols-wfr-recertification-3091/
END:VEVENT
END:VCALENDAR