BEGIN:VCALENDAR
VERSION:2.0
PRODID:-//eventon.com NONSGML v1.0//EN
CALSCALE:GREGORIAN
METHOD:PUBLISH
BEGIN:VEVENT
UID:69e5fb9c4ab12
DTSTAMP:20260420T101036
DTSTART:20260511T120000Z
DTEND:20260515T220000Z
TZID:America/New_York
LOCATION:Landmark Learning - Upstream Campus 1333 Cane Creek Rd
SUMMARY:NOLS Hybrid Wilderness First Responder (3199)
DESCRIPTION: Register Now Registration closes April 27. If you would like to enroll after this date and believe you have the time to complete the entire online platform prior to the course start on May 11\,  we&#8217;re happy to help. Just email our office: main@landmarklearning.org Course Overview: Expectations\,  Gear List\,  Schedule\, [..]\nhttps://www.landmarklearning.org/events/nols-hybrid-wilderness-first-responder-3199/
URL:https://www.landmarklearning.org/events/nols-hybrid-wilderness-first-responder-3199/
END:VEVENT
END:VCALENDAR