BEGIN:VCALENDAR
VERSION:2.0
PRODID:-//eventon.com NONSGML v1.0//EN
CALSCALE:GREGORIAN
METHOD:PUBLISH
BEGIN:VEVENT
UID:69ea0fbd4e3c9
DTSTAMP:20260423T122533
DTSTART:20260706T120000Z
DTEND:20260710T220000Z
TZID:America/New_York
LOCATION:Landmark Learning - Upstream Campus 1333 Cane Creek Rd
SUMMARY:NOLS Hybrid Wilderness First Responder (3295)
DESCRIPTION: Register Now Registration closes June 26. If you would like to enroll after this date and believe you have the time to complete the entire online platform prior to the course start on July 6\,  we&#8217;re happy to help. Just email our office: main@landmarklearning.org Course Overview: Expectations\,  Gear List\,  Schedule\, [..]\nhttps://www.landmarklearning.org/events/nols-hybrid-wilderness-first-responder-3295/
URL:https://www.landmarklearning.org/events/nols-hybrid-wilderness-first-responder-3295/
END:VEVENT
END:VCALENDAR